BEGIN:VCALENDAR
VERSION:2.0
PRODID:-//wp-events-plugin.com//6.4.7.3//EN
TZID:Europe/Berlin
X-WR-TIMEZONE:Europe/Berlin
BEGIN:VEVENT
UID:499@kks-berlin.de
DTSTART;TZID=Europe/Berlin:20220110T190000
DTEND;TZID=Europe/Berlin:20220110T210000
DTSTAMP:20211229T175329Z
URL:https://kks-berlin.de/events/schnupperschiessen-januar-2022/
SUMMARY:Schnupperschießen (Januar 2022)
DESCRIPTION:Der KKS-Berlin bietet ab sofort ein Schnupperschießen für Int
 eressenten an.\nGerne können Sie sich über das Anmeldetool für einen Te
 rmin eintragen.\n&nbsp\;\nFür wen ist das Schnupperschießen geeignet?\nF
 ür alle die Interesse an einer Mitgliedschaft in unserem Verein haben.\n&
 nbsp\;\nWo findet das Schnupperschießen durchgeführt?\nIn unserem Verein
 sheim in der Forckenbeckstraße 17A\, 14199 Berlin.\n&nbsp\;\nWas passiert
  beim Schnupperschießen?\nWir sprechen zunächst über allgemeine Dinge (
 auch ihr könnt Fragen stellen) und anschließend beginnen wir\nmit der Si
 cherheitseinweisung und geben die ersten Schüsse mit der Luftpistole oder
  dem Luftgewehr ab.\n&nbsp\;\nKann ich auch mit einer Feuerwaffe schießen
 ?\nLeider nein! Es absolut wichtig\, dass ihr die grundlegenden Sicherheit
 sregeln zunächst vollkommen verinnerlicht.\nDer Wechsel zu den Feuerwaffe
 n erfolgt erst wenn wir uns sicher sind\, dass ihr alle Sicherheitsregeln 
 verstanden habt und diese fehlerfrei anwenden könnt.\nFür Besitzer einer
  WBK können Einzelabsprachen getroffen werden.\n&nbsp\;\nBrauche ich eine
 n Corona-Test?\nWir benötigen (derzeitig) zu jedem Termin einen tagesaktu
 ellen Corona-Test.\nWahlweise akzeptieren wir auch einen Impfnachweis oder
  eine Genesenen-Bescheinigung.\n&nbsp\;\nKostet der Termin irgendwas?\nNei
 n\, alle Kosten werden durch uns getragen.\n&nbsp\;\nDer Termin ist ausgeb
 ucht! - was soll ich nun machen?\nWir bieten jeden zweiten Montag im Monat
  einen neuen Termin an. Buchbar sind die Termine ab dem ersten des jeweili
 gen Monats.\n&nbsp\;\n\n&nbsp\;\n\n&nbsp\;
ATTACH;FMTTYPE=image/jpeg:https://kks-berlin.de/wp-content/uploads/2015/11
 /IMG_59501.jpg
CATEGORIES:Schnupperschießen
LOCATION:KKS Berlin e.V.\, Forckenbeckstr. 17 a\, Berlin\, Berlin\, 14199\,
  Deutschland
GEO:52.48119999999999;13.30101000000002
X-APPLE-STRUCTURED-LOCATION;VALUE=URI;X-ADDRESS=Forckenbeckstr. 17 a\, Berl
 in\, Berlin\, 14199\, Deutschland;X-APPLE-RADIUS=100;X-TITLE=KKS Berlin e.
 V.:geo:52.48119999999999,13.30101000000002
END:VEVENT
BEGIN:VTIMEZONE
TZID:Europe/Berlin
X-LIC-LOCATION:Europe/Berlin
BEGIN:STANDARD
DTSTART:20211031T020000
TZOFFSETFROM:+0200
TZOFFSETTO:+0100
TZNAME:CET
END:STANDARD
END:VTIMEZONE
END:VCALENDAR